BEGIN:VCALENDAR
VERSION:2.0
CALSCALE:GREGORIAN
PRODID:adamgibbons/ics
METHOD:PUBLISH
X-PUBLISHED-TTL:PT1H
BEGIN:VEVENT
UID:1770@calendrigeek.com
SUMMARY:Lorcana Weekly Play
DTSTAMP:20260421T084442Z
DTSTART:20260427T220000Z
DTEND:20260428T020000Z
URL:https://calendrigeek.com/event/lorcana-weekly-play-67
GEO:48.2486;-79.0184
LOCATION:Jeux d'Évasion Escario\, Rouyn-Noranda - 224\, Avenue Carter\, Vie
	ux Noranda\, Noranda\, Rouyn-Noranda\, Abitibi-Témiscamingue\, Québec\, J9
	X 5A9\, Canada
STATUS:CONFIRMED
CATEGORIES:disney lorcana,Infinite Mana,tcg
END:VEVENT
END:VCALENDAR
